Workbook
Name UNITS: [1]Tables!$A$14:$A$87

Sheet Futura Excel Product Order List
A1: Item Number | B1: Item description | C1: Quantity | D1: Length | E1: Colour | F1: UOM | G1: Mark
B2: =VLOOKUP(A2,'Item List'!$A$1:$B$458,2,FALSE) -> #N/A | F2: =VLOOKUP(A2,'Item List'!$A$1:$C$458,3,FALSE) -> #N/A
B3: =VLOOKUP(A3,'Item List'!$A$1:$B$458,2,FALSE) -> #N/A | F3: =VLOOKUP(A3,'Item List'!$A$1:$C$458,3,FALSE) -> #N/A
B4: =VLOOKUP(A4,'Item List'!$A$1:$B$458,2,FALSE) -> #N/A | F4: =VLOOKUP(A4,'Item List'!$A$1:$C$458,3,FALSE) -> #N/A
B5: =VLOOKUP(A5,'Item List'!$A$1:$B$458,2,FALSE) -> #N/A | F5: =VLOOKUP(A5,'Item List'!$A$1:$C$458,3,FALSE) -> #N/A
B6: =VLOOKUP(A6,'Item List'!$A$1:$B$458,2,FALSE) -> #N/A | F6: =VLOOKUP(A6,'Item List'!$A$1:$C$458,3,FALSE) -> #N/A
B7: =VLOOKUP(A7,'Item List'!$A$1:$B$458,2,FALSE) -> #N/A | F7: =VLOOKUP(A7,'Item List'!$A$1:$C$458,3,FALSE) -> #N/A
B8: =VLOOKUP(A8,'Item List'!$A$1:$B$458,2,FALSE) -> #N/A | F8: =VLOOKUP(A8,'Item List'!$A$1:$C$458,3,FALSE) -> #N/A
B9: =VLOOKUP(A9,'Item List'!$A$1:$B$458,2,FALSE) -> #N/A | F9: =VLOOKUP(A9,'Item List'!$A$1:$C$458,3,FALSE) -> #N/A
B10: =VLOOKUP(A10,'Item List'!$A$1:$B$458,2,FALSE) -> #N/A | F10: =VLOOKUP(A10,'Item List'!$A$1:$C$458,3,FALSE) -> #N/A
B11: =VLOOKUP(A11,'Item List'!$A$1:$B$458,2,FALSE) -> #N/A | F11: =VLOOKUP(A11,'Item List'!$A$1:$C$458,3,FALSE) -> #N/A
B12: =VLOOKUP(A12,'Item List'!$A$1:$B$458,2,FALSE) -> #N/A | F12: =VLOOKUP(A12,'Item List'!$A$1:$C$458,3,FALSE) -> #N/A
B13: =VLOOKUP(A13,'Item List'!$A$1:$B$458,2,FALSE) -> #N/A | F13: =VLOOKUP(A13,'Item List'!$A$1:$C$458,3,FALSE) -> #N/A
... B50: =VLOOKUP(A50,'Item List'!$A$1:$B$458,2,FALSE) -> #N/A | F50: =VLOOKUP(A50,'Item List'!$A$1:$C$458,3,FALSE) -> #N/A

Sheet Item List
A1: FB15008H | B1: Futura Box Beam 150x65x0.75 High Durability | C1: MM
A2: FB20008H | B2: Futura Box Beam 200x65x0.75 High Durability | C2: MM
A3: FB25010H | B3: Futura Box Beam 250x65x0.95 High Durability | C3: MM
A4: FB30010H | B4: Futura Box Beam 300x75x0.95 High Durability | C4: MM
A5: FB30020H | B5: Futura Box Beam 300x77x1.95 High Durability | C5: MM
A6: FB35012H | B6: Futura Box Beam 350x90x1.15 High Durability | C6: MM
A7: FB40015H | B7: Futura Box Beam 400x100x1.45 High Durability | C7: MM
A8: FB45020H | B8: Futura Box Beam 450x125x1.95 High Durability | C8: MM
A9: FB54020H | B9: Futura Box Beam 540x125x1.95 High Durability | C9: MM
A10: FAC200 | B10: Futura Apex Cleat 200 Misc Angle | C10: EA
A11: FAC200-05 | B11: Futura Apex Cleat 200 - 5 deg | C11: EA
A12: FAC200-08 | B12: Futura Apex Cleat 200 - 8 deg | C12: EA
... A458: XSS5F1410-25 | B458: Steel Tek C5 HWF (no Neo) 14-10 x 25 (1000) | C458: EA
